BEGIN:VCALENDAR
VERSION:2.0
PRODID:-//York County History Center - ECPv6.15.20//NONSGML v1.0//EN
CALSCALE:GREGORIAN
METHOD:PUBLISH
X-WR-CALNAME:York County History Center
X-ORIGINAL-URL:https://www.yorkhistorycenter.org
X-WR-CALDESC:Events for York County History Center
REFRESH-INTERVAL;VALUE=DURATION:PT1H
X-Robots-Tag:noindex
X-PUBLISHED-TTL:PT1H
BEGIN:VTIMEZONE
TZID:America/New_York
BEGIN:DAYLIGHT
TZOFFSETFROM:-0500
TZOFFSETTO:-0400
TZNAME:EDT
DTSTART:20240310T070000
END:DAYLIGHT
BEGIN:STANDARD
TZOFFSETFROM:-0400
TZOFFSETTO:-0500
TZNAME:EST
DTSTART:20241103T060000
END:STANDARD
BEGIN:DAYLIGHT
TZOFFSETFROM:-0500
TZOFFSETTO:-0400
TZNAME:EDT
DTSTART:20250309T070000
END:DAYLIGHT
BEGIN:STANDARD
TZOFFSETFROM:-0400
TZOFFSETTO:-0500
TZNAME:EST
DTSTART:20251102T060000
END:STANDARD
BEGIN:DAYLIGHT
TZOFFSETFROM:-0500
TZOFFSETTO:-0400
TZNAME:EDT
DTSTART:20260308T070000
END:DAYLIGHT
BEGIN:STANDARD
TZOFFSETFROM:-0400
TZOFFSETTO:-0500
TZNAME:EST
DTSTART:20261101T060000
END:STANDARD
BEGIN:DAYLIGHT
TZOFFSETFROM:-0500
TZOFFSETTO:-0400
TZNAME:EDT
DTSTART:20270314T070000
END:DAYLIGHT
BEGIN:STANDARD
TZOFFSETFROM:-0400
TZOFFSETTO:-0500
TZNAME:EST
DTSTART:20271107T060000
END:STANDARD
END:VTIMEZONE
BEGIN:VTIMEZONE
TZID:UTC
BEGIN:STANDARD
TZOFFSETFROM:+0000
TZOFFSETTO:+0000
TZNAME:UTC
DTSTART:20240101T000000
END:STANDARD
END:VTIMEZONE
BEGIN:VEVENT
DTSTART;TZID=America/New_York:20260225T183000
DTEND;TZID=America/New_York:20260225T193000
DTSTAMP:20260421T183445
CREATED:20260113T160152Z
LAST-MODIFIED:20260224T185035Z
UID:120661-1772044200-1772047800@www.yorkhistorycenter.org
SUMMARY:Coffee & Conversation
DESCRIPTION:The focus will be The American Revolution by Ken Burns \nPlease note we suggest you watch The American Revolution by Ken Burns on PBS. There is an additional fee through the PBS Passport app if you did not watch the series when it premiered. If you are planning to view the docuseries\, PBS provides an episode guide you may want to view here. \nEach session will have a different focus and materials to view prior to the program which is mentioned above. This program is recommended attendees are high school age students and adults. It is $5 per person and History Center Members are free to attend. Registration is required to attend this program\, you can register at the link in this section. \nCoffee and tea will be provided for attendees. \nRegistration ends on February 24 at 6:30 PM.
URL:https://www.yorkhistorycenter.org/event/coffee-conversation/
LOCATION:York County History Center Museum\, 121 North Pershing Ave.\, York\, PA\, 17401\, United States
CATEGORIES:250th Anniversary,American History,Colonial Period,Community,Diverse Stories,Local History,Modern History
ATTACH;FMTTYPE=image/png:https://www.yorkhistorycenter.org/wp-content/uploads/January-28-2026-3.png
ORGANIZER;CN="Caroline":MAILTO:ctravers@yorkhistorycenter.org
END:VEVENT
BEGIN:VEVENT
DTSTART;TZID=America/New_York:20260214T103000
DTEND;TZID=America/New_York:20260214T143000
DTSTAMP:20260421T183445
CREATED:20260122T154846Z
LAST-MODIFIED:20260122T154846Z
UID:120704-1771065000-1771079400@www.yorkhistorycenter.org
SUMMARY:Second Saturday- February
DESCRIPTION:Take part in a day of family fun and learning with our quarterly Second Saturday Family Day! The History Center Museum holds many stories and artifacts\, Family Day-Black History Month will allow attendees a chance to explore York’s Black history through hands on activities in our lobby and galleries. \nActivities for the day\n\nStorytime– Books selected from York County Libraries\, visit their website to reserve books.\nHit it out of the park– Learn about York’s baseball history and the Black community when you make your own paper plate baseball.\nScavenger Hunt– Visit the galleries to discover national and local stories tied to the accomplishments of the Black community.\nHistory Maker Matching– Match the York History Maker with their life story.\nSpecial guests– Friends of Lebanon Cemetery will be in the lobby with a children’s activity.\nMore activities\n\nChildren may not be left unattended when taking part in the activities. \nActivities available while supplies last.
URL:https://www.yorkhistorycenter.org/event/second-saturday-february/
LOCATION:York County History Center Museum\, 121 North Pershing Ave.\, York\, PA\, 17401\, United States
CATEGORIES:Black History,Community,Diverse Stories,Local History,Modern History,Second Saturday,State History
ATTACH;FMTTYPE=image/png:https://www.yorkhistorycenter.org/wp-content/uploads/Copy-of-Copy-of-Second-Saturday-Family-Day_Dec-25.png
ORGANIZER;CN="Caroline":MAILTO:ctravers@yorkhistorycenter.org
END:VEVENT
BEGIN:VEVENT
DTSTART;TZID=America/New_York:20251211T183000
DTEND;TZID=America/New_York:20251211T203000
DTSTAMP:20260421T183445
CREATED:20251008T135642Z
LAST-MODIFIED:20251211T151316Z
UID:120424-1765477800-1765485000@www.yorkhistorycenter.org
SUMMARY:History Storytellers
DESCRIPTION:An evening with York County History Storytellers is a gathering of history-minded people who love sharing stories. \nTonight’s program is SOLD OUT! \nOur American democracy is worth fighting for\, and it has been since 1776. That struggle has produced heroes\, all worthy. It has spawned foes – some with good intentions\, others certainly not. Indeed\, you could say the York County experience with our American democracy has ranged from heroes to zeros. Historians participating in the York County History Storytellers evening are returning to explore what has worked in York County’s history and those times that we’ve fallen short. As a county\, we can learn from both. \nThe program starts at 6:30 p.m.\, Dec. 11\, and will feature Ben Neely\, June Burk Lloyd\, Samantha Dorm\, Jeri Jones\, Scott Mingus and Stephen H. Smith. Doors open at 5:30 pm for those who wish to explore the museum for free prior to the event. \nHometown History’s Jamie Noerpel and Dominish Marie Miller will host the evening. Jim McClure will preside at the popular “Stump the Historian” segment. \nProgram in collaboration with the York Daily Record and Hometown History.
URL:https://www.yorkhistorycenter.org/event/history-storytellers-2/
LOCATION:York County History Center Museum\, 121 North Pershing Ave.\, York\, PA\, 17401\, United States
CATEGORIES:250th Anniversary,American History,Colonial Period,Community,Diverse Stories,Local History,Modern History
ATTACH;FMTTYPE=image/png:https://www.yorkhistorycenter.org/wp-content/uploads/2025-12-History-Storytellers2.png
ORGANIZER;CN="Caroline":MAILTO:ctravers@yorkhistorycenter.org
END:VEVENT
BEGIN:VEVENT
DTSTART;TZID=America/New_York:20251108T103000
DTEND;TZID=America/New_York:20251108T113000
DTSTAMP:20260421T183445
CREATED:20251008T195411Z
LAST-MODIFIED:20251021T150934Z
UID:120407-1762597800-1762601400@www.yorkhistorycenter.org
SUMMARY:Second Saturday November
DESCRIPTION:November 8 is International STEAM day! Join us as we welcome Tom Ort to present S. Morgan Smith and the York\, PA Hydropower Legacy. Hydropower research\, development\, and manufacturing has been anchored in York\, Pennsylvania for over 150 years. Spearheaded by minister-turned-Industrialist S. Morgan Smith\, hydraulic products produced in York have been placed in operation in every corner of the Earth. In recognition of International STEAM Day\, the hydropower legacy and its effects on York\, the Nation\, and the world will be explored. \n  \nTom Ort is a Mechanical Engineer at Voith Hydro in York\, PA where he designs hydraulic turbine equipment used in facilities around the world. He earned his bachelor’s in Mechanical Engineering and master’s in Engineering Science from Penn State. A native of York\, Tom has a strong interest in local industrial history.
URL:https://www.yorkhistorycenter.org/event/second-saturday-november/
LOCATION:York County History Center Museum\, 121 North Pershing Ave.\, York\, PA\, 17401\, United States
CATEGORIES:American History,Community,Local History,Modern History,Second Saturday
ATTACH;FMTTYPE=image/png:https://www.yorkhistorycenter.org/wp-content/uploads/Second-Saturday-5.png
ORGANIZER;CN="Caroline":MAILTO:ctravers@yorkhistorycenter.org
END:VEVENT
BEGIN:VEVENT
DTSTART;TZID=America/New_York:20250913T103000
DTEND;TZID=America/New_York:20250913T143000
DTSTAMP:20260421T183445
CREATED:20250828T153402Z
LAST-MODIFIED:20250828T153411Z
UID:120299-1757759400-1757773800@www.yorkhistorycenter.org
SUMMARY:Second Saturday Family Day
DESCRIPTION:Take part in a day of family fun and learning with our quarterly Second Saturday Family Day! The History Center Museum holds many stories and artifacts\, Family Day-The Arts are All Around Us will allow attendees a chance to explore York’s history through hands on activities in our lobby and galleries. \nActivities for the day\n\nStorytime\nPainted Pottery Coasters\nPaper Fashions\nMake your own Post Card\nSalt Dough Ornaments\nSelf Portraits under the Smokestack\nMore activities\n\nActivities available while supplies last.
URL:https://www.yorkhistorycenter.org/event/second-saturday-family-day-2/
LOCATION:York County History Center Museum\, 121 North Pershing Ave.\, York\, PA\, 17401\, United States
CATEGORIES:Community,Diverse Stories,Local History,Modern History,Second Saturday
ATTACH;FMTTYPE=image/png:https://www.yorkhistorycenter.org/wp-content/uploads/Web-image-Family-Day_Sept2025.png
ORGANIZER;CN="Caroline":MAILTO:ctravers@yorkhistorycenter.org
END:VEVENT
BEGIN:VEVENT
DTSTART;TZID=America/New_York:20250725T180000
DTEND;TZID=America/New_York:20250725T193000
DTSTAMP:20260421T183445
CREATED:20250529T160350Z
LAST-MODIFIED:20250529T182350Z
UID:120051-1753466400-1753471800@www.yorkhistorycenter.org
SUMMARY:July Walking Tour
DESCRIPTION:Explore the rich history York has to offer as you see the city from a new perspective. Scattered amongst the walls of York’s fabulous architecture\, 18 murals depict scenes of the county’s proudest moments and people. \n  \nTours will kick off from the History Center Museum. We suggest to order your tickets ahead of time as this allows us prepare the group. You can purchase tickets at the button above.
URL:https://www.yorkhistorycenter.org/event/july-walking-tour-3/
LOCATION:York County History Center Museum\, 121 North Pershing Ave.\, York\, PA\, 17401\, United States
CATEGORIES:Community,Local History,Modern History
ATTACH;FMTTYPE=image/png:https://www.yorkhistorycenter.org/wp-content/uploads/Copy-of-Event-Images-Summer-2024-Website-1.png
ORGANIZER;CN="Caroline":MAILTO:ctravers@yorkhistorycenter.org
END:VEVENT
BEGIN:VEVENT
DTSTART;TZID=America/New_York:20250718T180000
DTEND;TZID=America/New_York:20250718T193000
DTSTAMP:20260421T183445
CREATED:20250529T160346Z
LAST-MODIFIED:20250529T161401Z
UID:120050-1752861600-1752867000@www.yorkhistorycenter.org
SUMMARY:July Walking Tour
DESCRIPTION:Explore the rich history York has to offer as you see the city from a new perspective. Scattered amongst the walls of York’s fabulous architecture\, 18 murals depict scenes of the county’s proudest moments and people. \n  \nTours will kick off from the History Center Museum. We suggest to order your tickets ahead of time as this allows us prepare the group. You can purchase tickets at the button above.
URL:https://www.yorkhistorycenter.org/event/july-walking-tour-2/
LOCATION:York County History Center Museum\, 121 North Pershing Ave.\, York\, PA\, 17401\, United States
CATEGORIES:Community,Local History,Modern History
ATTACH;FMTTYPE=image/png:https://www.yorkhistorycenter.org/wp-content/uploads/Copy-of-Event-Images-Summer-2024-Website-1.png
ORGANIZER;CN="Caroline":MAILTO:ctravers@yorkhistorycenter.org
END:VEVENT
BEGIN:VEVENT
DTSTART;TZID=America/New_York:20250711T180000
DTEND;TZID=America/New_York:20250711T193000
DTSTAMP:20260421T183445
CREATED:20250529T160343Z
LAST-MODIFIED:20250529T161249Z
UID:120049-1752256800-1752262200@www.yorkhistorycenter.org
SUMMARY:July Walking Tour
DESCRIPTION:Explore the rich history York has to offer as you see the city from a new perspective. Scattered amongst the walls of York’s fabulous architecture\, 18 murals depict scenes of the county’s proudest moments and people. \n  \nTours will kick off from the History Center Museum. We suggest to order your tickets ahead of time as this allows us prepare the group. You can purchase tickets at the button above.
URL:https://www.yorkhistorycenter.org/event/july-walking-tour/
LOCATION:York County History Center Museum\, 121 North Pershing Ave.\, York\, PA\, 17401\, United States
CATEGORIES:Community,Local History,Modern History
ATTACH;FMTTYPE=image/png:https://www.yorkhistorycenter.org/wp-content/uploads/Copy-of-Event-Images-Summer-2024-Website-1.png
ORGANIZER;CN="Caroline":MAILTO:ctravers@yorkhistorycenter.org
END:VEVENT
BEGIN:VEVENT
DTSTART;TZID=UTC:20250114T183000
DTEND;TZID=UTC:20250114T193000
DTSTAMP:20260421T183445
CREATED:20241219T232100Z
LAST-MODIFIED:20250110T175150Z
UID:118982-1736879400-1736883000@www.yorkhistorycenter.org
SUMMARY:Agricultural York
DESCRIPTION:Learn about the people\, places and things connected to local agriculture. Each session highlights different organizations within the agricultural community like family farms\, wineries\, apiaries and Penn State Extension. Our January session will focus on an overview of York’s Agriculture through a panel discussion from Penn State Extension educators with a focus on livestock\, crops\, and horticulture.
URL:https://www.yorkhistorycenter.org/event/agricultural-york/
LOCATION:York County History Center Museum\, 121 North Pershing Ave.\, York\, PA\, 17401\, United States
CATEGORIES:Agricultural York,Modern History,Penn State Extension
ATTACH;FMTTYPE=image/png:https://www.yorkhistorycenter.org/wp-content/uploads/Event-Featured-Image-Public-Programs.png
ORGANIZER;CN="Caroline":MAILTO:ctravers@yorkhistorycenter.org
END:VEVENT
END:VCALENDAR