BEGIN:VCALENDAR
VERSION:2.0
PRODID:-//York County History Center - ECPv6.15.20//NONSGML v1.0//EN
CALSCALE:GREGORIAN
METHOD:PUBLISH
X-WR-CALNAME:York County History Center
X-ORIGINAL-URL:https://www.yorkhistorycenter.org
X-WR-CALDESC:Events for York County History Center
REFRESH-INTERVAL;VALUE=DURATION:PT1H
X-Robots-Tag:noindex
X-PUBLISHED-TTL:PT1H
BEGIN:VTIMEZONE
TZID:America/New_York
BEGIN:DAYLIGHT
TZOFFSETFROM:-0500
TZOFFSETTO:-0400
TZNAME:EDT
DTSTART:20240310T070000
END:DAYLIGHT
BEGIN:STANDARD
TZOFFSETFROM:-0400
TZOFFSETTO:-0500
TZNAME:EST
DTSTART:20241103T060000
END:STANDARD
BEGIN:DAYLIGHT
TZOFFSETFROM:-0500
TZOFFSETTO:-0400
TZNAME:EDT
DTSTART:20250309T070000
END:DAYLIGHT
BEGIN:STANDARD
TZOFFSETFROM:-0400
TZOFFSETTO:-0500
TZNAME:EST
DTSTART:20251102T060000
END:STANDARD
BEGIN:DAYLIGHT
TZOFFSETFROM:-0500
TZOFFSETTO:-0400
TZNAME:EDT
DTSTART:20260308T070000
END:DAYLIGHT
BEGIN:STANDARD
TZOFFSETFROM:-0400
TZOFFSETTO:-0500
TZNAME:EST
DTSTART:20261101T060000
END:STANDARD
END:VTIMEZONE
BEGIN:VEVENT
DTSTART;TZID=America/New_York:20251108T103000
DTEND;TZID=America/New_York:20251108T113000
DTSTAMP:20260421T091002
CREATED:20251008T195411Z
LAST-MODIFIED:20251021T150934Z
UID:120407-1762597800-1762601400@www.yorkhistorycenter.org
SUMMARY:Second Saturday November
DESCRIPTION:November 8 is International STEAM day! Join us as we welcome Tom Ort to present S. Morgan Smith and the York\, PA Hydropower Legacy. Hydropower research\, development\, and manufacturing has been anchored in York\, Pennsylvania for over 150 years. Spearheaded by minister-turned-Industrialist S. Morgan Smith\, hydraulic products produced in York have been placed in operation in every corner of the Earth. In recognition of International STEAM Day\, the hydropower legacy and its effects on York\, the Nation\, and the world will be explored. \n  \nTom Ort is a Mechanical Engineer at Voith Hydro in York\, PA where he designs hydraulic turbine equipment used in facilities around the world. He earned his bachelor’s in Mechanical Engineering and master’s in Engineering Science from Penn State. A native of York\, Tom has a strong interest in local industrial history.
URL:https://www.yorkhistorycenter.org/event/second-saturday-november/
LOCATION:York County History Center Museum\, 121 North Pershing Ave.\, York\, PA\, 17401\, United States
CATEGORIES:American History,Community,Local History,Modern History,Second Saturday
ATTACH;FMTTYPE=image/png:https://www.yorkhistorycenter.org/wp-content/uploads/Second-Saturday-5.png
ORGANIZER;CN="Caroline":MAILTO:ctravers@yorkhistorycenter.org
END:VEVENT
END:VCALENDAR