BEGIN:VCALENDAR
VERSION:2.0
PRODID:-//York County History Center - ECPv6.15.20//NONSGML v1.0//EN
CALSCALE:GREGORIAN
METHOD:PUBLISH
X-WR-CALNAME:York County History Center
X-ORIGINAL-URL:https://www.yorkhistorycenter.org
X-WR-CALDESC:Events for York County History Center
REFRESH-INTERVAL;VALUE=DURATION:PT1H
X-Robots-Tag:noindex
X-PUBLISHED-TTL:PT1H
BEGIN:VTIMEZONE
TZID:America/New_York
BEGIN:DAYLIGHT
TZOFFSETFROM:-0500
TZOFFSETTO:-0400
TZNAME:EDT
DTSTART:20250309T070000
END:DAYLIGHT
BEGIN:STANDARD
TZOFFSETFROM:-0400
TZOFFSETTO:-0500
TZNAME:EST
DTSTART:20251102T060000
END:STANDARD
BEGIN:DAYLIGHT
TZOFFSETFROM:-0500
TZOFFSETTO:-0400
TZNAME:EDT
DTSTART:20260308T070000
END:DAYLIGHT
BEGIN:STANDARD
TZOFFSETFROM:-0400
TZOFFSETTO:-0500
TZNAME:EST
DTSTART:20261101T060000
END:STANDARD
BEGIN:DAYLIGHT
TZOFFSETFROM:-0500
TZOFFSETTO:-0400
TZNAME:EDT
DTSTART:20270314T070000
END:DAYLIGHT
BEGIN:STANDARD
TZOFFSETFROM:-0400
TZOFFSETTO:-0500
TZNAME:EST
DTSTART:20271107T060000
END:STANDARD
END:VTIMEZONE
BEGIN:VTIMEZONE
TZID:UTC
BEGIN:STANDARD
TZOFFSETFROM:+0000
TZOFFSETTO:+0000
TZNAME:UTC
DTSTART:20240101T000000
END:STANDARD
END:VTIMEZONE
BEGIN:VEVENT
DTSTART;TZID=America/New_York:20260310T183000
DTEND;TZID=America/New_York:20260310T193000
DTSTAMP:20260423T115010
CREATED:20260226T174045Z
LAST-MODIFIED:20260226T174045Z
UID:120793-1773167400-1773171000@www.yorkhistorycenter.org
SUMMARY:Agricultural York- March
DESCRIPTION:Presentation by Judy Grove and Cindy Pizziketti (Wallace Cross Mill docents)\n\nIn this session\, Judy Grove will highlight the historical significance and operations of the Wallace Cross Mill as it celebrates its bicentennial anniversary. Following this\, Cindy Pizziketti will share the story of the two Wallace sisters who ran the mill for 30 years. Having taken over operations during the Civil War\, the sisters were among the many unsung women who kept the country running during that era. Ms. Grove and Ms. Pizziketti will bring a portable corn sheller and allow attendees to grind wheat kernels. Some sweet treats will be provided by our presenters with buckwheat that was processed at the Wallace Cross Mill. This is a wonderful opportunity to celebrate the work of the Wallace sisters\, mill docents\, and other who have contributed to maintaining the Wallace Cross Mill for 200 years. 
URL:https://www.yorkhistorycenter.org/event/agricultural-york-march/
LOCATION:York County History Center Museum\, 121 North Pershing Ave.\, York\, PA\, 17401\, United States
CATEGORIES:Agricultural York,American History,Diverse Stories,Local History,Women's History
ATTACH;FMTTYPE=image/png:https://www.yorkhistorycenter.org/wp-content/uploads/Ag-York-2026-Website-Calendar-1.png
ORGANIZER;CN="Caroline":MAILTO:ctravers@yorkhistorycenter.org
END:VEVENT
BEGIN:VEVENT
DTSTART;TZID=America/New_York:20260106T183000
DTEND;TZID=America/New_York:20260106T193000
DTSTAMP:20260423T115010
CREATED:20251222T210020Z
LAST-MODIFIED:20251222T210020Z
UID:120644-1767724200-1767727800@www.yorkhistorycenter.org
SUMMARY:Agricultural York
DESCRIPTION:Learn about the people\, places and things connected to local agriculture. Each session highlights different organizations within the agricultural community like family farms\, wineries\, apiaries and Penn State Extension. \nThis month we will highlight York Fresh Food Farms and the Horn Farm Center. \nYork Fresh Food Farms\nYork Fresh Food Farms’ core focus is growing healthy food. They are committed to improving access to affordable\, healthy\, fresh food for everyone in our community\, especially for families living in poverty and in food desert neighborhoods. York Fresh Food Farms is growing food right here in the City of York\, making fresh\, farm-grown produce available– at affordable prices – so that all members of our community can eat a healthy diet. \nHorn Farm Center\nAn outcome of local efforts to preserve historic York County farmland\, the Horn Farm Center serves the community today as a hub for agricultural and ecological education. With a mission to foster ecological learning through land stewardship\, community partnership\, and hands-on experiences\, the nonprofit–based in Hellam–offers year-round classes\, events\, and volunteer opportunities that connect people with the land. While today’s visitors can learn about regenerative agriculture\, environmental restoration\, foraging\, and locally-based living\, the 186-acre farm also bears a rich history reflecting 200 years of York County agriculture.
URL:https://www.yorkhistorycenter.org/event/agricultural-york-4/
LOCATION:York County History Center Museum\, 121 North Pershing Ave.\, York\, PA\, 17401\, United States
CATEGORIES:Agricultural York,Community,Diverse Stories
ATTACH;FMTTYPE=image/png:https://www.yorkhistorycenter.org/wp-content/uploads/Ag-York-2026-Website-Calendar.png
ORGANIZER;CN="Caroline":MAILTO:ctravers@yorkhistorycenter.org
END:VEVENT
BEGIN:VEVENT
DTSTART;TZID=UTC:20250311T183000
DTEND;TZID=UTC:20250311T193000
DTSTAMP:20260423T115010
CREATED:20241220T002312Z
LAST-MODIFIED:20250205T211114Z
UID:118996-1741717800-1741721400@www.yorkhistorycenter.org
SUMMARY:Agricultural York
DESCRIPTION:Learn about the people\, places and things connected to local agriculture. Our March session will focus on the 4-H program\, its origins\, impact\, and more. \n  \nYork County 4-H inspires youth through club meetings\, camps\, county-wide events\, and more. Our county program embraces our mission to help youth make their “best better” and provides opportunities for them to learn and grow in new skills.
URL:https://www.yorkhistorycenter.org/event/agricultural-york-3/
LOCATION:York County History Center Museum\, 121 North Pershing Ave.\, York\, PA\, 17401\, United States
CATEGORIES:Agricultural York,Penn State Extension
ATTACH;FMTTYPE=image/png:https://www.yorkhistorycenter.org/wp-content/uploads/Event-Featured-Image-Public-Programs-4.png
ORGANIZER;CN="Caroline":MAILTO:ctravers@yorkhistorycenter.org
END:VEVENT
BEGIN:VEVENT
DTSTART;TZID=UTC:20250218T180000
DTEND;TZID=UTC:20250218T193000
DTSTAMP:20260423T115010
CREATED:20241219T232749Z
LAST-MODIFIED:20250211T202600Z
UID:118985-1739901600-1739907000@www.yorkhistorycenter.org
SUMMARY:Agricultural York
DESCRIPTION:Learn about the people\, places and things connected to local agriculture. Each session highlights different organizations within the agricultural community like family farms\, wineries\, apiaries and Penn State Extension. Our February session will dive into Mark and Val Rhodes journey as urban wine makers in York City. Their business Mark & Val Wines celebrates Black excellence and inclusion. Join us to learn more about their business and the wine making industry in Pennsylvania. \nWe welcome you to join us early at 6 pm to taste a sampling of Mark & Val wines before the program formally begins. \n  \nPhoto Credit: CLUBKNGFILMS
URL:https://www.yorkhistorycenter.org/event/agricultural-york-2/
LOCATION:York County History Center Museum\, 121 North Pershing Ave.\, York\, PA\, 17401\, United States
CATEGORIES:Agricultural York,Local History,Wine Making
ATTACH;FMTTYPE=image/png:https://www.yorkhistorycenter.org/wp-content/uploads/Event-Featured-Image-Public-Programs-1.png
ORGANIZER;CN="Caroline":MAILTO:ctravers@yorkhistorycenter.org
END:VEVENT
BEGIN:VEVENT
DTSTART;TZID=UTC:20250114T183000
DTEND;TZID=UTC:20250114T193000
DTSTAMP:20260423T115010
CREATED:20241219T232100Z
LAST-MODIFIED:20250110T175150Z
UID:118982-1736879400-1736883000@www.yorkhistorycenter.org
SUMMARY:Agricultural York
DESCRIPTION:Learn about the people\, places and things connected to local agriculture. Each session highlights different organizations within the agricultural community like family farms\, wineries\, apiaries and Penn State Extension. Our January session will focus on an overview of York’s Agriculture through a panel discussion from Penn State Extension educators with a focus on livestock\, crops\, and horticulture.
URL:https://www.yorkhistorycenter.org/event/agricultural-york/
LOCATION:York County History Center Museum\, 121 North Pershing Ave.\, York\, PA\, 17401\, United States
CATEGORIES:Agricultural York,Modern History,Penn State Extension
ATTACH;FMTTYPE=image/png:https://www.yorkhistorycenter.org/wp-content/uploads/Event-Featured-Image-Public-Programs.png
ORGANIZER;CN="Caroline":MAILTO:ctravers@yorkhistorycenter.org
END:VEVENT
END:VCALENDAR