BEGIN:VCALENDAR
VERSION:2.0
PRODID:-//York County History Center - ECPv6.15.20//NONSGML v1.0//EN
CALSCALE:GREGORIAN
METHOD:PUBLISH
X-ORIGINAL-URL:https://www.yorkhistorycenter.org
X-WR-CALDESC:Events for York County History Center
REFRESH-INTERVAL;VALUE=DURATION:PT1H
X-Robots-Tag:noindex
X-PUBLISHED-TTL:PT1H
BEGIN:VTIMEZONE
TZID:America/New_York
BEGIN:DAYLIGHT
TZOFFSETFROM:-0500
TZOFFSETTO:-0400
TZNAME:EDT
DTSTART:20250309T070000
END:DAYLIGHT
BEGIN:STANDARD
TZOFFSETFROM:-0400
TZOFFSETTO:-0500
TZNAME:EST
DTSTART:20251102T060000
END:STANDARD
BEGIN:DAYLIGHT
TZOFFSETFROM:-0500
TZOFFSETTO:-0400
TZNAME:EDT
DTSTART:20260308T070000
END:DAYLIGHT
BEGIN:STANDARD
TZOFFSETFROM:-0400
TZOFFSETTO:-0500
TZNAME:EST
DTSTART:20261101T060000
END:STANDARD
BEGIN:DAYLIGHT
TZOFFSETFROM:-0500
TZOFFSETTO:-0400
TZNAME:EDT
DTSTART:20270314T070000
END:DAYLIGHT
BEGIN:STANDARD
TZOFFSETFROM:-0400
TZOFFSETTO:-0500
TZNAME:EST
DTSTART:20271107T060000
END:STANDARD
END:VTIMEZONE
BEGIN:VEVENT
DTSTART;TZID=America/New_York:20260503T143000
DTEND;TZID=America/New_York:20260503T153000
DTSTAMP:20260425T084351
CREATED:20250213T194532Z
LAST-MODIFIED:20260420T210723Z
UID:119719-1777818600-1777822200@www.yorkhistorycenter.org
SUMMARY:South Central Pa. Genealogical Society
DESCRIPTION:Sunday May 3 – Aaron McWilliams – Navigating Pennsylvania’s Revolutionary War Militia Records\nThis program will be held in person and also on Zoom. \nIn Person Registration \nZoom Registration \nThe Pennsylvania Revolutionary War militia records are some of the most popular records at the Pennsylvania State Archives. Even so\, few fully understand the records or how to interpret them. Navigating Pennsylvania’s Revolutionary War Militia Records will provide an in-depth look at the various militia documents found in the collections of the Pennsylvania State Archives and how to interpret them. It will also cover how to access and navigate the records online. \nAaron McWilliams is head of the Public Services Section at the Pennsylvania State Archives. He is responsible for handling research inquiries at the Archives and frequently represents the agency at genealogical events. His areas of expertise include Pennsylvania state land records\, Pennsylvania’s Revolutionary War militia\, and genealogy. \n  \nUpcoming Programs \nSunday June 14 – Henry James Young Awards
URL:https://www.yorkhistorycenter.org/event/south-central-pa-genealogical-society/
LOCATION:PA
CATEGORIES:250th Anniversary,Partner Programs,South Central PA Genealogical Society
ATTACH;FMTTYPE=image/png:https://www.yorkhistorycenter.org/wp-content/uploads/SCPGS.png
ORGANIZER;CN="Dan":MAILTO:dfink@yorkhistorycenter.org
END:VEVENT
BEGIN:VEVENT
DTSTART;TZID=America/New_York:20260613T110000
DTEND;TZID=America/New_York:20260613T123000
DTSTAMP:20260425T084351
CREATED:20260417T132029Z
LAST-MODIFIED:20260417T132149Z
UID:120581-1781348400-1781353800@www.yorkhistorycenter.org
SUMMARY:Second Saturday - June
DESCRIPTION:We are excited to welcome author and historian Dr. Emily Sneff to the History Center Museum! She will be presenting about her book When the Declaration of Independence Was News. \nBlurb of the Book: \nPublishing for the 250th anniversary of the United States\, When the Declaration of Independence Was News focuses on the nation’s founding document at the moment of its creation in 1776\, before anyone knew what the legacy of the Declaration would be or if the United States would win the war against Great Britain. It explores how the Declaration was communicated to people in the new nation and around the Atlantic world and reveals the stories of the many people involved in the process of declaring independence\, from printers to soldiers to diplomats to translators. \nPurchase a copy of her book here.
URL:https://www.yorkhistorycenter.org/event/second-saturday-june-2/
LOCATION:York County History Center Museum\, 121 North Pershing Ave.\, York\, PA\, 17401\, United States
CATEGORIES:250th Anniversary,American History,Colonial Period
ATTACH;FMTTYPE=image/png:https://www.yorkhistorycenter.org/wp-content/uploads/250-Second-Saturday-Website-event-post-2.png
ORGANIZER;CN="Caroline":MAILTO:ctravers@yorkhistorycenter.org
END:VEVENT
BEGIN:VEVENT
DTSTART;TZID=America/New_York:20261114T100000
DTEND;TZID=America/New_York:20261114T150000
DTSTAMP:20260425T084351
CREATED:20260421T132910Z
LAST-MODIFIED:20260421T133050Z
UID:120931-1794650400-1794668400@www.yorkhistorycenter.org
SUMMARY:Articles of Confederation Day
DESCRIPTION:This year kicks off 250th anniversary celebrations throughout the United States. Join us in November to continue the year of celebrations as we highlight the Articles of Confederation\, one of America’s first founding documents. The event will take place on November 14\, 2026 from 10 am until 3 pm. We are welcoming in a range of historic tradespeople\, reenactors\, musicians\, and more. Check back this summer for more details about our event this Fall.
URL:https://www.yorkhistorycenter.org/event/articles-of-confederation-day-2026/
LOCATION:Colonial Complex\, 157 W. Market St.\, York\, PA\, 17401\, United States
CATEGORIES:250th Anniversary,American History,Articles of Confederation Day,Colonial Period,Community,Diverse Stories,Local History
ATTACH;FMTTYPE=image/png:https://www.yorkhistorycenter.org/wp-content/uploads/November-14-2026.png
ORGANIZER;CN="Caroline":MAILTO:ctravers@yorkhistorycenter.org
END:VEVENT
END:VCALENDAR