BEGIN:VCALENDAR
VERSION:2.0
PRODID:-//York County History Center - ECPv6.15.20//NONSGML v1.0//EN
CALSCALE:GREGORIAN
METHOD:PUBLISH
X-WR-CALNAME:York County History Center
X-ORIGINAL-URL:https://www.yorkhistorycenter.org
X-WR-CALDESC:Events for York County History Center
REFRESH-INTERVAL;VALUE=DURATION:PT1H
X-Robots-Tag:noindex
X-PUBLISHED-TTL:PT1H
BEGIN:VTIMEZONE
TZID:America/New_York
BEGIN:DAYLIGHT
TZOFFSETFROM:-0500
TZOFFSETTO:-0400
TZNAME:EDT
DTSTART:20250309T070000
END:DAYLIGHT
BEGIN:STANDARD
TZOFFSETFROM:-0400
TZOFFSETTO:-0500
TZNAME:EST
DTSTART:20251102T060000
END:STANDARD
BEGIN:DAYLIGHT
TZOFFSETFROM:-0500
TZOFFSETTO:-0400
TZNAME:EDT
DTSTART:20260308T070000
END:DAYLIGHT
BEGIN:STANDARD
TZOFFSETFROM:-0400
TZOFFSETTO:-0500
TZNAME:EST
DTSTART:20261101T060000
END:STANDARD
BEGIN:DAYLIGHT
TZOFFSETFROM:-0500
TZOFFSETTO:-0400
TZNAME:EDT
DTSTART:20270314T070000
END:DAYLIGHT
BEGIN:STANDARD
TZOFFSETFROM:-0400
TZOFFSETTO:-0500
TZNAME:EST
DTSTART:20271107T060000
END:STANDARD
END:VTIMEZONE
BEGIN:VEVENT
DTSTART;TZID=America/New_York:20260306T180000
DTEND;TZID=America/New_York:20260306T193000
DTSTAMP:20260421T074948
CREATED:20260122T200139Z
LAST-MODIFIED:20260211T223435Z
UID:120711-1772820000-1772825400@www.yorkhistorycenter.org
SUMMARY:First Friday- March
DESCRIPTION:Test your knowledge of historic events\, pop culture\, and more when you attend Trivia & Tacos March 6 at the History Center Museum. Taco supplies will be provided to attendees\, tacos available while supplies last. \nTrivia is recommended for ages 16 and up. \nThis activity was made possible in part by a Downtown Inc First Friday Grant\, sponsored by WellSpan Health. \nMuseum Galleries are closed this evening!
URL:https://www.yorkhistorycenter.org/event/first-friday-march/
LOCATION:York County History Center Museum\, 121 North Pershing Ave.\, York\, PA\, 17401\, United States
CATEGORIES:250th Anniversary,American History,Colonial Period,Community,Diverse Stories,First Friday
ATTACH;FMTTYPE=image/png:https://www.yorkhistorycenter.org/wp-content/uploads/March-6-2026-6-730-PM.png
ORGANIZER;CN="Caroline":MAILTO:ctravers@yorkhistorycenter.org
END:VEVENT
BEGIN:VEVENT
DTSTART;TZID=America/New_York:20260310T150000
DTEND;TZID=America/New_York:20260310T150000
DTSTAMP:20260421T074948
CREATED:20260225T143109Z
LAST-MODIFIED:20260225T143122Z
UID:120790-1773154800-1773154800@www.yorkhistorycenter.org
SUMMARY:Closing Early
DESCRIPTION:The History Center Museum is closing at 3 pm on Tuesday\, March 10 in preparation for Travels with Darley visits York County\, PA at the Appell Center for the Performing Arts. The History Center’s very own Dr. Valerie Long will be a part of the panel during the program. For more information look below. \n  \nFrom Explore York \nJoin Explore York for a special screening of Travels with Darley\, the PBS series hosted by Emmy-award-winning television host\, writer\, and producer Darley Newman. Enjoy an exclusive look at the episode titled “Communities That Shaped America.” This episode showcases York County’s historic sites\, local attractions\, and memorable food and drink experiences. A panel featuring Darley herself and others featured in the episode will share some behind-the-scenes insights about how we brought York County’s rich history and hospitality to life for a national audience. Light refreshments provided\, including popcorn courtesy of The Popcorn Loft. This event will take place in the Capitol Theatre at the Appell Center for the Performing Arts and is free and open to the public. Please RSVP by March 6. Register at EventBrite here.
URL:https://www.yorkhistorycenter.org/event/closing-early/
LOCATION:York County History Center Museum\, 121 North Pershing Ave.\, York\, PA\, 17401\, United States
CATEGORIES:250th Anniversary
ATTACH;FMTTYPE=image/png:https://www.yorkhistorycenter.org/wp-content/uploads/No-Tour-Graphic-10.png
ORGANIZER;CN="Caroline":MAILTO:ctravers@yorkhistorycenter.org
END:VEVENT
END:VCALENDAR